BEGIN:VCALENDAR
VERSION:2.0
PRODID:-//Homeless Coalition of Palm Beach County - ECPv6.15.18//NONSGML v1.0//EN
CALSCALE:GREGORIAN
METHOD:PUBLISH
X-ORIGINAL-URL:https://homelesscoalitionpbc.org
X-WR-CALDESC:Events for Homeless Coalition of Palm Beach County
REFRESH-INTERVAL;VALUE=DURATION:PT1H
X-Robots-Tag:noindex
X-PUBLISHED-TTL:PT1H
BEGIN:VTIMEZONE
TZID:America/New_York
BEGIN:DAYLIGHT
TZOFFSETFROM:-0500
TZOFFSETTO:-0400
TZNAME:EDT
DTSTART:20240310T070000
END:DAYLIGHT
BEGIN:STANDARD
TZOFFSETFROM:-0400
TZOFFSETTO:-0500
TZNAME:EST
DTSTART:20241103T060000
END:STANDARD
BEGIN:DAYLIGHT
TZOFFSETFROM:-0500
TZOFFSETTO:-0400
TZNAME:EDT
DTSTART:20250309T070000
END:DAYLIGHT
BEGIN:STANDARD
TZOFFSETFROM:-0400
TZOFFSETTO:-0500
TZNAME:EST
DTSTART:20251102T060000
END:STANDARD
BEGIN:DAYLIGHT
TZOFFSETFROM:-0500
TZOFFSETTO:-0400
TZNAME:EDT
DTSTART:20260308T070000
END:DAYLIGHT
BEGIN:STANDARD
TZOFFSETFROM:-0400
TZOFFSETTO:-0500
TZNAME:EST
DTSTART:20261101T060000
END:STANDARD
END:VTIMEZONE
BEGIN:VEVENT
DTSTART;TZID=America/New_York:20250130T180000
DTEND;TZID=America/New_York:20250130T200000
DTSTAMP:20260423T122730
CREATED:20241030T192354Z
LAST-MODIFIED:20241118T210604Z
UID:20699-1738260000-1738267200@homelesscoalitionpbc.org
SUMMARY:Kickoff Cocktail  Reception Mayors' Ball 2025
DESCRIPTION:BRINGING UNITY TOGETHER TO END HOMELESSNESS\nHonoring:\nVita Nova\, Inc.\, Nydia Sabugo-Marrou\, Rev. Juanita B. Goode\, and James Wahlberg for being champions for homeless people in Palm Beach County. \nTHURSDAY\, JANUARY 30\, 2025\n6:00pm-8:00pm \nKravis Center \n701 Okeechobee Blvd\, West Palm Beach\, FL 33401 \nRSVP
URL:https://homelesscoalitionpbc.org/event/kickoff-cocktail-reception-mayors-ball-2025/
LOCATION:Kravis Center\, 701 Okeechobee Blvd.\, West Palm Beach\, FL\, 33401\, United States
ATTACH;FMTTYPE=image/jpeg:https://homelesscoalitionpbc.org/wp-content/uploads/2024/10/Mayors-Ball-Kickoff-Cocktail-Reception_WEBSITE-v2_-900x900-1.jpg
ORGANIZER;CN="Homeless Coalition of Palm Beach County":MAILTO:events@homelesscoalitionpbc.org
END:VEVENT
END:VCALENDAR