BEGIN:VCALENDAR
VERSION:2.0
PRODID:-//Homeless Coalition of Palm Beach County - ECPv6.15.18//NONSGML v1.0//EN
CALSCALE:GREGORIAN
METHOD:PUBLISH
X-ORIGINAL-URL:https://homelesscoalitionpbc.org
X-WR-CALDESC:Events for Homeless Coalition of Palm Beach County
REFRESH-INTERVAL;VALUE=DURATION:PT1H
X-Robots-Tag:noindex
X-PUBLISHED-TTL:PT1H
BEGIN:VTIMEZONE
TZID:America/New_York
BEGIN:DAYLIGHT
TZOFFSETFROM:-0500
TZOFFSETTO:-0400
TZNAME:EDT
DTSTART:20230312T070000
END:DAYLIGHT
BEGIN:STANDARD
TZOFFSETFROM:-0400
TZOFFSETTO:-0500
TZNAME:EST
DTSTART:20231105T060000
END:STANDARD
BEGIN:DAYLIGHT
TZOFFSETFROM:-0500
TZOFFSETTO:-0400
TZNAME:EDT
DTSTART:20240310T070000
END:DAYLIGHT
BEGIN:STANDARD
TZOFFSETFROM:-0400
TZOFFSETTO:-0500
TZNAME:EST
DTSTART:20241103T060000
END:STANDARD
BEGIN:DAYLIGHT
TZOFFSETFROM:-0500
TZOFFSETTO:-0400
TZNAME:EDT
DTSTART:20250309T070000
END:DAYLIGHT
BEGIN:STANDARD
TZOFFSETFROM:-0400
TZOFFSETTO:-0500
TZNAME:EST
DTSTART:20251102T060000
END:STANDARD
END:VTIMEZONE
BEGIN:VEVENT
DTSTART;TZID=America/New_York:20241221T140000
DTEND;TZID=America/New_York:20241221T153000
DTSTAMP:20260424T051510
CREATED:20241205T194924Z
LAST-MODIFIED:20241205T195202Z
UID:20760-1734789600-1734795000@homelesscoalitionpbc.org
SUMMARY:2024 National Homeless Persons' Remembrance Day
DESCRIPTION:National Homeless Persons’ Remembrance Day is commemorated each year on December 21\, the winter solstice in the Northern Hemisphere and the longest night of the year. It’s a day to encourage the public to act on the behalf of those who lost their lives while living on the streets of Palm Beach County.
URL:https://homelesscoalitionpbc.org/event/2024-national-homeless-persons-remembrance-day/
LOCATION:The Salvation Army – North Rosemary\, 600 N Rosemary Ave\, West Palm Beach\, FL\, 33401\, United States
ATTACH;FMTTYPE=image/jpeg:https://homelesscoalitionpbc.org/wp-content/uploads/2024/12/2024-Natl-Homeless-Persons-Remembrance-Day.jpg
END:VEVENT
END:VCALENDAR